BEGIN:VCALENDAR
VERSION:2.0
PRODID:-//Squarespace Inc/Squarespace 6//v6//EN
BEGIN:VEVENT
UID:5a17378e24a694106d21434c@squarespace.com
DTSTAMP:20171123T210331Z
DTSTART:20180315T213000Z
DTEND:20180322T223000Z
SUMMARY:booking
END:VEVENT
END:VCALENDAR
