BEGIN:VCALENDAR
VERSION:2.0
PRODID:-//Squarespace Inc/Squarespace 6//v6//EN
BEGIN:VEVENT
UID:5a17371d8165f542d63547e7@squarespace.com
DTSTAMP:20171123T210139Z
DTSTART:20180208T213000Z
DTEND:20180211T223000Z
SUMMARY:booking
END:VEVENT
END:VCALENDAR
