BEGIN:VCALENDAR
VERSION:2.0
PRODID:-//Squarespace Inc/Squarespace 6//v6//EN
BEGIN:VEVENT
UID:5a1736809140b7c306b3fd3c@squarespace.com
DTSTAMP:20171123T205928Z
DTSTART:20180106T210000Z
DTEND:20180118T220000Z
SUMMARY:booking
END:VEVENT
END:VCALENDAR
