BEGIN:VCALENDAR
VERSION:2.0
PRODID:-//Squarespace Inc/Squarespace 6//v6//EN
BEGIN:VEVENT
UID:5a17375ec83025aa86f5ee8b@squarespace.com
DTSTAMP:20171123T210805Z
DTSTART:20180224T213000Z
DTEND:20180301T213000Z
SUMMARY:booking
END:VEVENT
END:VCALENDAR
