BEGIN:VCALENDAR
VERSION:2.0
PRODID:-//Squarespace Inc/Squarespace 6//v6//EN
BEGIN:VEVENT
UID:5a1736c2f9619afa6ad93add@squarespace.com
DTSTAMP:20171123T210028Z
DTSTART:20180119T210000Z
DTEND:20180126T220000Z
SUMMARY:booking
END:VEVENT
END:VCALENDAR
