BEGIN:VCALENDAR
VERSION:2.0
PRODID:-//Squarespace Inc/Squarespace 6//v6//EN
BEGIN:VEVENT
UID:5a17353f4192021369a2008a@squarespace.com
DTSTAMP:20171123T205653Z
DTSTART:20171226T010000Z
DTEND:20180105T210000Z
SUMMARY:booking
END:VEVENT
END:VCALENDAR
