BEGIN:VCALENDAR
VERSION:2.0
PRODID:-//Squarespace Inc/Squarespace 6//v6//EN
BEGIN:VEVENT
UID:5a17344ec83025aa86f58d24@squarespace.com
DTSTAMP:20171123T205035Z
DTSTART:20171219T210000Z
DTEND:20171225T220000Z
SUMMARY:booking
END:VEVENT
END:VCALENDAR
