BEGIN:VCALENDAR
VERSION:2.0
PRODID:-//Squarespace Inc/Squarespace 6//v6//EN
BEGIN:VEVENT
UID:5a172c2771c10b644b40399a@squarespace.com
DTSTAMP:20171123T205712Z
DTSTART:20171128T203000Z
DTEND:20171202T213000Z
SUMMARY:booking
END:VEVENT
END:VCALENDAR
